BEGIN:VCALENDAR
VERSION:2.0
PRODID:krempel.com
BEGIN:VEVENT
UID:69e60afdd2c21
DTSTART:20260920T220001Z
SEQUENCE:0
TRANSP:OPAQUE
DTEND:20260924T215900Z
LOCATION:Atlanta\, USA
SUMMARY:CAMX 2026
CLASS:PUBLIC
DTSTAMP:20260420T111613Z
END:VEVENT
END:VCALENDAR