BEGIN:VCALENDAR
VERSION:2.0
PRODID:krempel.com
BEGIN:VEVENT
UID:69e609e03f9e6
DTSTART:20260324T230100Z
SEQUENCE:0
TRANSP:OPAQUE
DTEND:20260326T225900Z
LOCATION:Augsburg\, Deutschland 
SUMMARY:Coiltech Augsburg 2026
CLASS:PUBLIC
DTSTAMP:20260420T111128Z
END:VEVENT
END:VCALENDAR