BEGIN:VCALENDAR
VERSION:2.0
PRODID:krempel.com
BEGIN:VEVENT
UID:69e5dde3978c2
DTSTART:20250908T220000Z
SEQUENCE:0
TRANSP:OPAQUE
DTEND:20250911T220000Z
LOCATION:London\, England 
SUMMARY:DSEI Show 2025
CLASS:PUBLIC
DTSTAMP:20260420T080347Z
END:VEVENT
END:VCALENDAR