BEGIN:VCALENDAR
VERSION:2.0
PRODID:krempel.com
BEGIN:VEVENT
UID:69e698aceab41
DTSTART:20270301T070000Z
SEQUENCE:0
TRANSP:OPAQUE
DTEND:20270303T160000Z
LOCATION:Nürnberg\, Deutschland 
SUMMARY:Enforce Tac 2027
CLASS:PUBLIC
DTSTAMP:20260420T212044Z
END:VEVENT
END:VCALENDAR