BEGIN:VCALENDAR
VERSION:2.0
PRODID:krempel.com
BEGIN:VEVENT
UID:69e66e7353d2d
DTSTART:20270309T070001Z
SEQUENCE:0
TRANSP:OPAQUE
DTEND:20270312T225900Z
LOCATION:Hannover\, Deutschland 
SUMMARY:DSEI Germany 2027
CLASS:PUBLIC
DTSTAMP:20260420T182035Z
END:VEVENT
END:VCALENDAR