BEGIN:VCALENDAR
VERSION:2.0
PRODID:krempel.com
BEGIN:VEVENT
UID:69e73853e30b3
DTSTART:20260609T220100Z
SEQUENCE:0
TRANSP:OPAQUE
DTEND:20260611T210000Z
LOCATION:Novi\, USA 
SUMMARY:Coiltech North America 2026
CLASS:PUBLIC
DTSTAMP:20260421T084155Z
END:VEVENT
END:VCALENDAR