BEGIN:VCALENDAR
VERSION:2.0
PRODID:krempel.com
BEGIN:VEVENT
UID:69e721d9a4c3a
DTSTART:20251018T220100Z
SEQUENCE:0
TRANSP:OPAQUE
DTEND:20251022T215900Z
LOCATION:Recife\,  Brasil
SUMMARY:SNPTEE 2025
CLASS:PUBLIC
DTSTAMP:20260421T070601Z
END:VEVENT
END:VCALENDAR